BEGIN:VCALENDAR
VERSION:2.0
PRODID:-//NADI Kg Bahagia - ECPv6.15.13.1//NONSGML v1.0//EN
CALSCALE:GREGORIAN
METHOD:PUBLISH
X-WR-CALNAME:NADI Kg Bahagia
X-ORIGINAL-URL:https://kgbahagia.nadi.my
X-WR-CALDESC:Events for NADI Kg Bahagia
REFRESH-INTERVAL;VALUE=DURATION:PT1H
X-Robots-Tag:noindex
X-PUBLISHED-TTL:PT1H
BEGIN:VTIMEZONE
TZID:UTC
BEGIN:STANDARD
TZOFFSETFROM:+0000
TZOFFSETTO:+0000
TZNAME:UTC
DTSTART:20210101T000000
END:STANDARD
END:VTIMEZONE
BEGIN:VEVENT
DTSTART;TZID=UTC:20220205T080000
DTEND;TZID=UTC:20220207T170000
DTSTAMP:20260423T145849
CREATED:20220224T041831Z
LAST-MODIFIED:20220224T041831Z
UID:1818-1644048000-1644253200@kgbahagia.nadi.my
SUMMARY:Mingu Seminar & E-Tuisyen
DESCRIPTION:
URL:https://kgbahagia.nadi.my/event/mingu-seminar-e-tuisyen/
CATEGORIES:DEFAULT
END:VEVENT
END:VCALENDAR