BEGIN:VCALENDAR
VERSION:2.0
PRODID:-//NADI Kg Bahagia - ECPv6.15.13.1//NONSGML v1.0//EN
CALSCALE:GREGORIAN
METHOD:PUBLISH
X-ORIGINAL-URL:https://kgbahagia.nadi.my
X-WR-CALDESC:Events for NADI Kg Bahagia
REFRESH-INTERVAL;VALUE=DURATION:PT1H
X-Robots-Tag:noindex
X-PUBLISHED-TTL:PT1H
BEGIN:VTIMEZONE
TZID:UTC
BEGIN:STANDARD
TZOFFSETFROM:+0000
TZOFFSETTO:+0000
TZNAME:UTC
DTSTART:20170101T000000
END:STANDARD
END:VTIMEZONE
BEGIN:VEVENT
DTSTART;TZID=UTC:20190525T080000
DTEND;TZID=UTC:20190525T170000
DTSTAMP:20260420T062548
CREATED:20190523T205317Z
LAST-MODIFIED:20190523T205317Z
UID:1779-1558771200-1558803600@kgbahagia.nadi.my
SUMMARY:Program Klik dengan bijak sempena Kamaatan
DESCRIPTION:Program klik dengan bijak bersempena denga bulan kamaatan peringkat deaerah
URL:https://kgbahagia.nadi.my/event/program-klik-dengan-bijak-sempena-kamaatan/
CATEGORIES:DEFAULT
END:VEVENT
BEGIN:VEVENT
DTSTART;TZID=UTC:20190424T103000
DTEND;TZID=UTC:20190424T123000
DTSTAMP:20260420T062548
CREATED:20190420T214314Z
LAST-MODIFIED:20190420T214314Z
UID:1778-1556101800-1556109000@kgbahagia.nadi.my
SUMMARY:Program Advokasi Klik Dengan Bijak bersama SMK Nabawan Dua
DESCRIPTION:Program Advokasi Klik Dengan Bijak bersama SMK Nabawan Dua 
URL:https://kgbahagia.nadi.my/event/program-advokasi-klik-dengan-bijak-bersama-smk-nabawan-dua/
LOCATION:Daerah Nabawan\, Daerah Nabawan
CATEGORIES:DEFAULT
END:VEVENT
BEGIN:VEVENT
DTSTART;TZID=UTC:20190307T100000
DTEND;TZID=UTC:20190307T120000
DTSTAMP:20260420T062548
CREATED:20190307T232141Z
LAST-MODIFIED:20190307T232141Z
UID:1776-1551952800-1551960000@kgbahagia.nadi.my
SUMMARY:Taklimat Klik Dengan Bijak di SMK Sepulut
DESCRIPTION:mendedahkan cara-cara bagaimana  menggunakan internet dengan betul.
URL:https://kgbahagia.nadi.my/event/taklimat-klik-dengan-bijak-di-smk-sepulut/
CATEGORIES:DEFAULT
END:VEVENT
BEGIN:VEVENT
DTSTART;TZID=UTC:20190210T080000
DTEND;TZID=UTC:20190210T170000
DTSTAMP:20260420T062548
CREATED:20190122T002915Z
LAST-MODIFIED:20190122T002915Z
UID:1775-1549785600-1549818000@kgbahagia.nadi.my
SUMMARY:Program Jom Sihat Pusat Internet Kg Bahagia Bersam Klinik Desa Kg. Bahagia
DESCRIPTION:Program Jom Sihat Bersama Pusat Internet Kg. Bahagia dengan Klinik Desa Kg. Bahagia
URL:https://kgbahagia.nadi.my/event/program-jom-sihat-pusat-internet-kg-bahagia-bersam-klinik-desa-kg-bahagia/
LOCATION:Pim Bahagia\, Pim Bahagia
CATEGORIES:DEFAULT
END:VEVENT
BEGIN:VEVENT
DTSTART;TZID=UTC:20181219T070000
DTEND;TZID=UTC:20181219T140000
DTSTAMP:20260420T062548
CREATED:20181222T231042Z
LAST-MODIFIED:20181222T231042Z
UID:1774-1545202800-1545228000@kgbahagia.nadi.my
SUMMARY:HARI BERSAMA KOMUNITI PUSAT INTERNET KG BAHAGIA
DESCRIPTION:Hari bersama komuniti Pusat Internet yang ke lima tahun 
URL:https://kgbahagia.nadi.my/event/hari-bersama-komuniti-pusat-internet-kg-bahagia/
CATEGORIES:DEFAULT
END:VEVENT
BEGIN:VEVENT
DTSTART;TZID=UTC:20181115T090000
DTEND;TZID=UTC:20181115T120000
DTSTAMP:20260420T062548
CREATED:20181123T014656Z
LAST-MODIFIED:20181123T014656Z
UID:1773-1542272400-1542283200@kgbahagia.nadi.my
SUMMARY:Pameran & Advokasi Klik Dengan Bijak di Sk Kg. Bahagia
DESCRIPTION:pameran di sk kg bahagia 
URL:https://kgbahagia.nadi.my/event/pameran-advokasi-klik-dengan-bijak-di-sk-kg-bahagia/
CATEGORIES:DEFAULT
END:VEVENT
BEGIN:VEVENT
DTSTART;TZID=UTC:20181019T080000
DTEND;TZID=UTC:20181019T170000
DTSTAMP:20260420T062548
CREATED:20181022T205819Z
LAST-MODIFIED:20181022T205819Z
UID:1772-1539936000-1539968400@kgbahagia.nadi.my
SUMMARY:Jelajar KDB bersama Komuniti Kg.Salarom Sempena Gimik Tuai Ikan Tagal
DESCRIPTION:
URL:https://kgbahagia.nadi.my/event/jelajar-kdb-bersama-komuniti-kg-salarom-sempena-gimik-tuai-ikan-tagal/
CATEGORIES:DEFAULT
END:VEVENT
BEGIN:VEVENT
DTSTART;TZID=UTC:20181013T140000
DTEND;TZID=UTC:20181013T170000
DTSTAMP:20260420T062548
CREATED:20181022T205558Z
LAST-MODIFIED:20181022T205558Z
UID:1771-1539439200-1539450000@kgbahagia.nadi.my
SUMMARY:Program Jelajah KDB bersama Program KRT Kg.Malinja
DESCRIPTION:Program Bersama Ahli KRT Kg. Malinja bagi menyampaikan taklimat KDB
URL:https://kgbahagia.nadi.my/event/program-jelajah-kdb-bersama-program-krt-kg-malinja/
CATEGORIES:DEFAULT
END:VEVENT
BEGIN:VEVENT
DTSTART;TZID=UTC:20180922T140000
DTEND;TZID=UTC:20180922T170000
DTSTAMP:20260420T062548
CREATED:20180922T231133Z
LAST-MODIFIED:20180922T231133Z
UID:1768-1537624800-1537635600@kgbahagia.nadi.my
SUMMARY:Kelas Keusahawan bersama Kumpulan Tupperware
DESCRIPTION:Kelas Keusahawanan bersama kumpulan Tupperware
URL:https://kgbahagia.nadi.my/event/kelas-keusahawan-bersama-kumpulan-tupperware/
LOCATION:Pim Bahagia\, Pim Bahagia
CATEGORIES:DEFAULT
END:VEVENT
BEGIN:VEVENT
DTSTART;TZID=UTC:20180916T080000
DTEND;TZID=UTC:20180916T170000
DTSTAMP:20260420T062548
CREATED:20180923T190317Z
LAST-MODIFIED:20180923T190317Z
UID:1769-1537084800-1537117200@kgbahagia.nadi.my
SUMMARY:Pertandingan Sepak Takraw Sempena Hari Malaysia
DESCRIPTION:Pertandingan Sepak Takraw sempena menyambut Hari Malaysia bagi Kg.  Bahagia bersama komuniti dengan Pusat Internet Kg. Bahagia
URL:https://kgbahagia.nadi.my/event/pertandingan-sepak-takraw-sempena-hari-malaysia/
CATEGORIES:DEFAULT
END:VEVENT
BEGIN:VEVENT
DTSTART;TZID=UTC:20180915T140000
DTEND;TZID=UTC:20180915T160000
DTSTAMP:20260420T062548
CREATED:20180924T002114Z
LAST-MODIFIED:20180924T002114Z
UID:1770-1537020000-1537027200@kgbahagia.nadi.my
SUMMARY:Ceramah Klik Dengan Bijak
DESCRIPTION:Ceramah klik dengan bijak untuk meningkatkan pengetahuan komuniti tentang bahayanya jika salah guna maklumat yang tidak betul
URL:https://kgbahagia.nadi.my/event/ceramah-klik-dengan-bijak/
CATEGORIES:DEFAULT
END:VEVENT
BEGIN:VEVENT
DTSTART;TZID=UTC:20180831T083000
DTEND;TZID=UTC:20180831T143000
DTSTAMP:20260420T062548
CREATED:20180823T223655Z
LAST-MODIFIED:20180823T223655Z
UID:1762-1535704200-1535725800@kgbahagia.nadi.my
SUMMARY:My Health
DESCRIPTION:Tempat : PI Kg. Bahagia \nMasa : 8.30am – 2.30pm \nAnjuran : Pusat Internet Kg. Bahagia
URL:https://kgbahagia.nadi.my/event/my-health/
LOCATION:Pusat Internet  Kg. Bahagia\, Pusat Internet Kg. Bahagia
CATEGORIES:DEFAULT
END:VEVENT
BEGIN:VEVENT
DTSTART;TZID=UTC:20180812T090000
DTEND;TZID=UTC:20180812T230000
DTSTAMP:20260420T062548
CREATED:20180823T234201Z
LAST-MODIFIED:20180823T234201Z
UID:1766-1534064400-1534114800@kgbahagia.nadi.my
SUMMARY:Microsoft Word
DESCRIPTION:Tarikh : 12 Ogos 2018 \nMasa : 09.00am-11.00am
URL:https://kgbahagia.nadi.my/event/microsoft-word/
CATEGORIES:DEFAULT
END:VEVENT
BEGIN:VEVENT
DTSTART;TZID=UTC:20180804T090000
DTEND;TZID=UTC:20180805T230000
DTSTAMP:20260420T062548
CREATED:20180823T233615Z
LAST-MODIFIED:20180823T233615Z
UID:1765-1533373200-1533510000@kgbahagia.nadi.my
SUMMARY:E-PEMBELAJARAN (Thecolor.com)
DESCRIPTION:Tarikh : 04-05 Ogos 2018 \n 
URL:https://kgbahagia.nadi.my/event/e-pembelajaran-thecolor-com/
LOCATION:Pusat Internet  Kg. Bahagia\, Pusat Internet Kg. Bahagia
CATEGORIES:DEFAULT
END:VEVENT
BEGIN:VEVENT
DTSTART;TZID=UTC:20180803T090000
DTEND;TZID=UTC:20180803T230000
DTSTAMP:20260420T062548
CREATED:20180823T233254Z
LAST-MODIFIED:20180823T233254Z
UID:1764-1533286800-1533337200@kgbahagia.nadi.my
SUMMARY:Microsoft Office (word)
DESCRIPTION:Tarikh : 03 ogos 2018 \nTarikh : 09.00am-11.00am
URL:https://kgbahagia.nadi.my/event/microsoft-office-word/
LOCATION:Pusat Internet  Kg. Bahagia\, Pusat Internet Kg. Bahagia
CATEGORIES:DEFAULT
END:VEVENT
BEGIN:VEVENT
DTSTART;TZID=UTC:20180801T090000
DTEND;TZID=UTC:20180801T230000
DTSTAMP:20260420T062548
CREATED:20180823T232946Z
LAST-MODIFIED:20180823T232946Z
UID:1763-1533114000-1533164400@kgbahagia.nadi.my
SUMMARY:Asas Teknologi Maklumat (gmail)
DESCRIPTION:Tarikh : 01 Ogos 2018 \nMasa : 09am- 11.00pm
URL:https://kgbahagia.nadi.my/event/asas-teknologi-maklumat-gmail/
LOCATION:Pusat Internet  Kg. Bahagia\, Pusat Internet Kg. Bahagia
CATEGORIES:DEFAULT
END:VEVENT
BEGIN:VEVENT
DTSTART;TZID=UTC:20180722T090000
DTEND;TZID=UTC:20180722T110000
DTSTAMP:20260420T062548
CREATED:20180724T193228Z
LAST-MODIFIED:20180724T193228Z
UID:1761-1532250000-1532257200@kgbahagia.nadi.my
SUMMARY:Kelas Microsoft Office -Microsoft Word
DESCRIPTION:
URL:https://kgbahagia.nadi.my/event/kelas-microsoft-office-microsoft-word-3/
LOCATION:Pusat Internet  Kg. Bahagia\, Pusat Internet Kg. Bahagia
CATEGORIES:DEFAULT
END:VEVENT
BEGIN:VEVENT
DTSTART;TZID=UTC:20180718T140000
DTEND;TZID=UTC:20180718T160000
DTSTAMP:20260420T062548
CREATED:20180724T192929Z
LAST-MODIFIED:20180724T192929Z
UID:1760-1531922400-1531929600@kgbahagia.nadi.my
SUMMARY:Kelas ICT (E-Pembelajaran www.abcya.com)
DESCRIPTION:
URL:https://kgbahagia.nadi.my/event/kelas-ict-e-pembelajaran-www-abcya-com/
LOCATION:Pusat Internet  Kg. Bahagia\, Pusat Internet Kg. Bahagia
CATEGORIES:DEFAULT
END:VEVENT
BEGIN:VEVENT
DTSTART;TZID=UTC:20180714T090000
DTEND;TZID=UTC:20180714T230000
DTSTAMP:20260420T062548
CREATED:20180724T192830Z
LAST-MODIFIED:20180724T192830Z
UID:1759-1531558800-1531609200@kgbahagia.nadi.my
SUMMARY:Kelas ICT (E-Pembelajaran www.tutortv.com.my)
DESCRIPTION:
URL:https://kgbahagia.nadi.my/event/kelas-ict-e-pembelajaran-www-tutortv-com-my-3/
LOCATION:Pusat Internet  Kg. Bahagia\, Pusat Internet Kg. Bahagia
CATEGORIES:DEFAULT
END:VEVENT
BEGIN:VEVENT
DTSTART;TZID=UTC:20180713T090000
DTEND;TZID=UTC:20180713T110000
DTSTAMP:20260420T062548
CREATED:20180724T192238Z
LAST-MODIFIED:20180724T192238Z
UID:1758-1531472400-1531479600@kgbahagia.nadi.my
SUMMARY:Kelas Keusahawanan (Microsoft Word & Powerpoint)
DESCRIPTION:
URL:https://kgbahagia.nadi.my/event/kelas-keusahawanan-microsoft-word-powerpoint/
LOCATION:Pusat Internet  Kg. Bahagia\, Pusat Internet Kg. Bahagia
CATEGORIES:DEFAULT
END:VEVENT
BEGIN:VEVENT
DTSTART;TZID=UTC:20180712T140000
DTEND;TZID=UTC:20180712T160000
DTSTAMP:20260420T062548
CREATED:20180724T192158Z
LAST-MODIFIED:20180724T192158Z
UID:1757-1531404000-1531411200@kgbahagia.nadi.my
SUMMARY:Kelas ICT (E-Pembelajaran www.thecolor.com)
DESCRIPTION:
URL:https://kgbahagia.nadi.my/event/kelas-ict-e-pembelajaran-www-thecolor-com/
LOCATION:Pusat Internet  Kg. Bahagia\, Pusat Internet Kg. Bahagia
CATEGORIES:DEFAULT
END:VEVENT
BEGIN:VEVENT
DTSTART;TZID=UTC:20180711T140000
DTEND;TZID=UTC:20180711T160000
DTSTAMP:20260420T062548
CREATED:20180724T192048Z
LAST-MODIFIED:20180724T192048Z
UID:1756-1531317600-1531324800@kgbahagia.nadi.my
SUMMARY:Kelas ICT (E-Pembelajaran www.tutortv.com.my)
DESCRIPTION:
URL:https://kgbahagia.nadi.my/event/kelas-ict-e-pembelajaran-www-tutortv-com-my-2/
LOCATION:Pusat Internet  Kg. Bahagia\, Pusat Internet Kg. Bahagia
CATEGORIES:DEFAULT
END:VEVENT
BEGIN:VEVENT
DTSTART;TZID=UTC:20180710T140000
DTEND;TZID=UTC:20180710T160000
DTSTAMP:20260420T062548
CREATED:20180724T191629Z
LAST-MODIFIED:20180724T191629Z
UID:1755-1531231200-1531238400@kgbahagia.nadi.my
SUMMARY:Kelas ICT ( E-Pembelajaran www.tutortv.com.my)
DESCRIPTION:
URL:https://kgbahagia.nadi.my/event/kelas-ict-e-pembelajaran-www-tutortv-com-my/
LOCATION:Pusat Internet  Kg. Bahagia\, Pusat Internet Kg. Bahagia
CATEGORIES:DEFAULT
END:VEVENT
BEGIN:VEVENT
DTSTART;TZID=UTC:20180709T140000
DTEND;TZID=UTC:20180709T160000
DTSTAMP:20260420T062548
CREATED:20180724T191509Z
LAST-MODIFIED:20180724T191509Z
UID:1754-1531144800-1531152000@kgbahagia.nadi.my
SUMMARY:Kelas Microsoft Office - Microsoft Word
DESCRIPTION:
URL:https://kgbahagia.nadi.my/event/kelas-microsoft-office-microsoft-word-2/
LOCATION:Pusat Internet  Kg. Bahagia\, Pusat Internet Kg. Bahagia
CATEGORIES:DEFAULT
END:VEVENT
BEGIN:VEVENT
DTSTART;TZID=UTC:20180623T140000
DTEND;TZID=UTC:20180623T170000
DTSTAMP:20260420T062548
CREATED:20180627T185416Z
LAST-MODIFIED:20180627T185416Z
UID:1752-1529762400-1529773200@kgbahagia.nadi.my
SUMMARY:Advokasi KDB & Kelas Keusahawanan (Mekap)
DESCRIPTION:
URL:https://kgbahagia.nadi.my/event/advokasi-kdb-kelas-keusahawanan-mekap/
CATEGORIES:DEFAULT
END:VEVENT
BEGIN:VEVENT
DTSTART;TZID=UTC:20180611T140000
DTEND;TZID=UTC:20180611T160000
DTSTAMP:20260420T062548
CREATED:20180627T185253Z
LAST-MODIFIED:20180627T185253Z
UID:1751-1528725600-1528732800@kgbahagia.nadi.my
SUMMARY:Kelas E-Pembelajaran (www.thecolor.com)
DESCRIPTION:
URL:https://kgbahagia.nadi.my/event/kelas-e-pembelajaran-www-thecolor-com/
CATEGORIES:DEFAULT
END:VEVENT
BEGIN:VEVENT
DTSTART;TZID=UTC:20180610T140000
DTEND;TZID=UTC:20180610T160000
DTSTAMP:20260420T062548
CREATED:20180627T185200Z
LAST-MODIFIED:20180627T185200Z
UID:1750-1528639200-1528646400@kgbahagia.nadi.my
SUMMARY:Kelas E-Pembelajaran (www.abcya.com)
DESCRIPTION:
URL:https://kgbahagia.nadi.my/event/kelas-e-pembelajaran-www-abcya-com/
CATEGORIES:DEFAULT
END:VEVENT
BEGIN:VEVENT
DTSTART;TZID=UTC:20180609T090000
DTEND;TZID=UTC:20180609T110000
DTSTAMP:20260420T062548
CREATED:20180627T185004Z
LAST-MODIFIED:20180627T185004Z
UID:1749-1528534800-1528542000@kgbahagia.nadi.my
SUMMARY:Kelas Microsoft Office (Microsoft Word)
DESCRIPTION:
URL:https://kgbahagia.nadi.my/event/kelas-microsoft-office-microsoft-word/
CATEGORIES:DEFAULT
END:VEVENT
BEGIN:VEVENT
DTSTART;TZID=UTC:20180608T090000
DTEND;TZID=UTC:20180608T110000
DTSTAMP:20260420T062548
CREATED:20180627T184907Z
LAST-MODIFIED:20180627T184907Z
UID:1748-1528448400-1528455600@kgbahagia.nadi.my
SUMMARY:Kelas Asas Teknologi Maklumat & Komunikasi (EMEL)
DESCRIPTION:
URL:https://kgbahagia.nadi.my/event/kelas-asas-teknologi-maklumat-komunikasi-emel/
CATEGORIES:DEFAULT
END:VEVENT
BEGIN:VEVENT
DTSTART;TZID=UTC:20180606T090000
DTEND;TZID=UTC:20180606T110000
DTSTAMP:20260420T062548
CREATED:20180627T184810Z
LAST-MODIFIED:20180627T184810Z
UID:1747-1528275600-1528282800@kgbahagia.nadi.my
SUMMARY:Keusahawanan dan Latihan ICT
DESCRIPTION:
URL:https://kgbahagia.nadi.my/event/keusahawanan-dan-latihan-ict/
CATEGORIES:DEFAULT
END:VEVENT
END:VCALENDAR